{
 "currentVersion": 10.91,
 "serviceDescription": "GEBCO2020/GEBCO_2020_Depths_IS",
 "name": "GEBCO2020/GEBCO_2020_Depths_IS",
 "description": "",
 "extent": {
  "xmin": -179.99999999999997,
  "ymin": -90,
  "xmax": 179.99999999999997,
  "ymax": 89.99999999999997,
  "spatialReference": {
   "wkid": 4326,
   "latestWkid": 4326
  }
 },
 "initialExtent": {
  "xmin": -179.99999999999997,
  "ymin": -90,
  "xmax": 179.99999999999997,
  "ymax": 89.99999999999997,
  "spatialReference": {
   "wkid": 4326,
   "latestWkid": 4326
  }
 },
 "fullExtent": {
  "xmin": -179.99999999999997,
  "ymin": -90,
  "xmax": 179.99999999999997,
  "ymax": 89.99999999999997,
  "spatialReference": {
   "wkid": 4326,
   "latestWkid": 4326
  }
 },
 "hasMultidimensions": false,
 "pixelSizeX": 0.004166666666666666,
 "pixelSizeY": 0.004166666666666666,
 "datasetFormat": "AMD",
 "uncompressedSize": 7464960000,
 "blockWidth": 2048,
 "blockHeight": 256,
 "compressionType": "None",
 "bandNames": [
  "Band_1"
 ],
 "allowCopy": true,
 "allowAnalysis": true,
 "bandCount": 1,
 "pixelType": "S16",
 "minPixelSize": 0,
 "maxPixelSize": 0,
 "copyrightText": "",
 "serviceDataType": "esriImageServiceDataTypeGeneric",
 "serviceSourceType": "esriImageServiceSourceTypeMosaicDataset",
 "minValues": [
  -10951.900032043457
 ],
 "maxValues": [
  2150.900032043457
 ],
 "meanValues": [
  -4579.16594071179
 ],
 "stdvValues": [
  953.9862472104606
 ],
 "objectIdField": "OBJECTID",
 "fields": [
  {
   "name": "OBJECTID",
   "type": "esriFieldTypeOID",
   "alias": "OBJECTID",
   "domain": null
  },
  {
   "name": "Shape",
   "type": "esriFieldTypeGeometry",
   "alias": "Shape",
   "domain": null
  },
  {
   "name": "Name",
   "type": "esriFieldTypeString",
   "alias": "Name",
   "domain": null,
   "length": 200
  },
  {
   "name": "MinPS",
   "type": "esriFieldTypeDouble",
   "alias": "MinPS",
   "domain": null
  },
  {
   "name": "MaxPS",
   "type": "esriFieldTypeDouble",
   "alias": "MaxPS",
   "domain": null
  },
  {
   "name": "LowPS",
   "type": "esriFieldTypeDouble",
   "alias": "LowPS",
   "domain": null
  },
  {
   "name": "HighPS",
   "type": "esriFieldTypeDouble",
   "alias": "HighPS",
   "domain": null
  },
  {
   "name": "Category",
   "type": "esriFieldTypeInteger",
   "alias": "Category",
   "domain": {
    "type": "codedValue",
    "name": "MosaicCatalogItemCategoryDomain",
    "description": "Catalog item categories.",
    "codedValues": [
     {
      "name": "Unknown",
      "code": 0
     },
     {
      "name": "Primary",
      "code": 1
     },
     {
      "name": "Overview",
      "code": 2
     },
     {
      "name": "Unprocessed Overview",
      "code": 3
     },
     {
      "name": "Partial Overview",
      "code": 4
     },
     {
      "name": "Inactive",
      "code": 5
     },
     {
      "name": "Uploaded",
      "code": 253
     },
     {
      "name": "Incomplete",
      "code": 254
     },
     {
      "name": "Custom",
      "code": 255
     }
    ],
    "mergePolicy": "esriMPTDefaultValue",
    "splitPolicy": "esriSPTDefaultValue"
   }
  },
  {
   "name": "Tag",
   "type": "esriFieldTypeString",
   "alias": "Tag",
   "domain": null,
   "length": 100
  },
  {
   "name": "GroupName",
   "type": "esriFieldTypeString",
   "alias": "GroupName",
   "domain": null,
   "length": 100
  },
  {
   "name": "ProductName",
   "type": "esriFieldTypeString",
   "alias": "ProductName",
   "domain": null,
   "length": 100
  },
  {
   "name": "CenterX",
   "type": "esriFieldTypeDouble",
   "alias": "CenterX",
   "domain": null
  },
  {
   "name": "CenterY",
   "type": "esriFieldTypeDouble",
   "alias": "CenterY",
   "domain": null
  },
  {
   "name": "ZOrder",
   "type": "esriFieldTypeInteger",
   "alias": "ZOrder",
   "domain": null
  },
  {
   "name": "Shape_Length",
   "type": "esriFieldTypeDouble",
   "alias": "Shape_Length",
   "domain": null
  },
  {
   "name": "Shape_Area",
   "type": "esriFieldTypeDouble",
   "alias": "Shape_Area",
   "domain": null
  }
 ],
 "capabilities": "Catalog,Mensuration,Image,Metadata",
 "defaultMosaicMethod": "Northwest",
 "allowedMosaicMethods": "NorthWest,Center,LockRaster,ByAttribute,Nadir,Viewpoint,Seamline,None",
 "sortField": "",
 "sortValue": null,
 "sortAscending": true,
 "mosaicOperator": "First",
 "maxDownloadSizeLimit": 2048,
 "defaultCompressionQuality": 75,
 "defaultResamplingMethod": "Bilinear",
 "maxImageHeight": 4100,
 "maxImageWidth": 15000,
 "maxRecordCount": 1000,
 "maxDownloadImageCount": 20,
 "maxMosaicImageCount": 20,
 "allowRasterFunction": true,
 "rasterFunctionInfos": [
  {
   "name": "BlueGreen2_2STDEV",
   "description": "Blue Green 2 Color Ramp with 2 STDEV Stretch",
   "help": "\n "
  },
  {
   "name": "BlueGreen2_1MinMaxClip",
   "description": "Blue Green 2 Color Ramp with 2 STDEV Stretch",
   "help": "\n "
  },
  {
   "name": "Hillshade_MultiDir_3x",
   "description": "HillShade_MultiDirection_3X",
   "help": "\n "
  },
  {
   "name": "Hillshade_MultiDir_5x",
   "description": "HillShade_MultiDirection_5X",
   "help": "\n "
  },
  {
   "name": "Hillshade_MultiDir_7x",
   "description": "HillShade_MultiDirection_7X",
   "help": ""
  },
  {
   "name": "Rainbow_1MinMaxClip",
   "description": "Rainbow Color Ramp with 1% Min Max Clip\n\n",
   "help": "\n "
  },
  {
   "name": "Rainbow_2STDEV",
   "description": "Rainbow Color Ramp with 2 STDEV stretch\n",
   "help": "\n "
  },
  {
   "name": "None",
   "description": "",
   "help": ""
  }
 ],
 "rasterTypeInfos": [
  {
   "name": "Raster Dataset",
   "description": "Supports all ArcGIS Raster Datasets",
   "help": ""
  }
 ],
 "mensurationCapabilities": "Basic",
 "hasHistograms": true,
 "hasColormap": false,
 "hasRasterAttributeTable": false,
 "minScale": 0,
 "maxScale": 0,
 "exportTilesAllowed": false,
 "supportsStatistics": true,
 "supportsAdvancedQueries": true,
 "editFieldsInfo": null,
 "ownershipBasedAccessControlForRasters": null,
 "allowComputeTiePoints": false,
 "useStandardizedQueries": true,
 "advancedQueryCapabilities": {
  "useStandardizedQueries": true,
  "supportsStatistics": true,
  "supportsOrderBy": true,
  "supportsDistinct": true,
  "supportsPagination": true
 },
 "spatialReference": {
  "wkid": 4326,
  "latestWkid": 4326
 }
}
