{
 "currentVersion": 10.91,
 "serviceDescription": "GulfOfMaine/WGOM_High_Resolution_Bathymetry_2m_Image_Service",
 "name": "GulfOfMaine/WGOM_High_Resolution_Bathymetry_2m_Image_Service",
 "description": "",
 "extent": {
  "xmin": -7911758.50001078,
  "ymin": 5104523.250012553,
  "xmax": -7652568.50001078,
  "ymax": 5532103.250012553,
  "spatialReference": {
   "wkid": 102100,
   "latestWkid": 3857
  }
 },
 "initialExtent": {
  "xmin": -7911758.50001078,
  "ymin": 5104523.250012553,
  "xmax": -7652568.50001078,
  "ymax": 5532103.250012553,
  "spatialReference": {
   "wkid": 102100,
   "latestWkid": 3857
  }
 },
 "fullExtent": {
  "xmin": -7911758.50001078,
  "ymin": 5104523.250012553,
  "xmax": -7652568.50001078,
  "ymax": 5532103.250012553,
  "spatialReference": {
   "wkid": 102100,
   "latestWkid": 3857
  }
 },
 "pixelSizeX": 2,
 "pixelSizeY": 2,
 "bandCount": 1,
 "pixelType": "F32",
 "minPixelSize": 0,
 "maxPixelSize": 0,
 "copyrightText": "",
 "serviceDataType": "esriImageServiceDataTypeGeneric",
 "minValues": [
  -235.7331085205078
 ],
 "maxValues": [
  70.96800231933594
 ],
 "meanValues": [
  -82.36259338953225
 ],
 "stdvValues": [
  48.39878996468914
 ],
 "objectIdField": "",
 "fields": [],
 "capabilities": "Image,Metadata,Mensuration",
 "defaultMosaicMethod": "Center",
 "allowedMosaicMethods": "",
 "sortField": "",
 "sortValue": null,
 "sortAscending": true,
 "mosaicOperator": "First",
 "defaultCompressionQuality": 75,
 "defaultResamplingMethod": "Bilinear",
 "maxImageHeight": 10000,
 "maxImageWidth": 10000,
 "allowRasterFunction": true,
 "rasterFunctionInfos": [
  {
   "name": "BlueGreen2ColorRamp",
   "description": "Blue Green 2 Color Ramp",
   "help": ""
  },
  {
   "name": "Hillshade5xGamma",
   "description": "Multidirectional Hillshade (5x) with Gamma\n",
   "help": ""
  },
  {
   "name": "RainbowColorRamp",
   "description": "Rainbow Color Ramp",
   "help": ""
  },
  {
   "name": "BlueGreen3ColorRamp",
   "description": "Blue Green 3 Color Ramp",
   "help": ""
  },
  {
   "name": "Contour2m",
   "description": "2m Contour Interval",
   "help": ""
  },
  {
   "name": "Contour5m",
   "description": "5m Contour Interval",
   "help": ""
  },
  {
   "name": "Contour10m",
   "description": "10m Contour Interval",
   "help": ""
  },
  {
   "name": "None",
   "description": "",
   "help": ""
  }
 ],
 "rasterTypeInfos": [
  {
   "name": "Raster Dataset",
   "description": "Supports all ArcGIS Raster Datasets",
   "help": ""
  }
 ],
 "mensurationCapabilities": "Basic",
 "hasHistograms": true,
 "hasColormap": false,
 "hasRasterAttributeTable": false,
 "minScale": 0,
 "maxScale": 0,
 "exportTilesAllowed": false,
 "hasMultidimensions": false,
 "supportsStatistics": false,
 "supportsAdvancedQueries": false,
 "editFieldsInfo": null,
 "ownershipBasedAccessControlForRasters": null,
 "allowComputeTiePoints": false,
 "useStandardizedQueries": true,
 "advancedQueryCapabilities": {
  "useStandardizedQueries": true,
  "supportsStatistics": false,
  "supportsOrderBy": false,
  "supportsDistinct": false,
  "supportsPagination": false
 },
 "spatialReference": {
  "wkid": 102100,
  "latestWkid": 3857
 }
}
