{
 "currentVersion": 10.91,
 "serviceDescription": "Hosted/RT_mapping",
 "name": "Hosted/RT_mapping",
 "description": "The RasterRendering service is a multi-tenant raster rendering provider.",
 "extent": {
  "xmin": -1.9384312230212327E7,
  "ymin": 2259769.501265468,
  "xmax": -1.7883811401990276E7,
  "ymax": 2877729.9008951806,
  "spatialReference": {
   "wkid": 102100,
   "latestWkid": 3857
  }
 },
 "initialExtent": {
  "xmin": -1.9384312230212327E7,
  "ymin": 2259769.501265468,
  "xmax": -1.7883811401990276E7,
  "ymax": 2877729.9008951806,
  "spatialReference": {
   "wkid": 102100,
   "latestWkid": 3857
  }
 },
 "fullExtent": {
  "xmin": -1.9384312230212327E7,
  "ymin": 2259769.501265468,
  "xmax": -1.7883811401990276E7,
  "ymax": 2877729.9008951806,
  "spatialReference": {
   "wkid": 102100,
   "latestWkid": 3857
  }
 },
 "hasMultidimensions": false,
 "pixelSizeX": 107.11742063264215,
 "pixelSizeY": 107.11742063264215,
 "datasetFormat": "Cache/LERC2D",
 "uncompressedSize": 242436456,
 "blockWidth": 256,
 "blockHeight": 256,
 "compressionType": "LERC2D",
 "bandNames": [
  "Band_1",
  "Band_2",
  "Band_3"
 ],
 "allowCopy": true,
 "allowAnalysis": true,
 "bandCount": 3,
 "noDataValue": 256,
 "noDataValues": [
  256,
  256,
  256
 ],
 "pixelType": "U8",
 "minPixelSize": 0,
 "maxPixelSize": 0,
 "copyrightText": "",
 "serviceDataType": "esriImageServiceDataTypeRGB",
 "serviceSourceType": "esriImageServiceSourceTypeDataset",
 "minValues": [
  0,
  0,
  0
 ],
 "maxValues": [
  253,
  254,
  254
 ],
 "meanValues": [
  74.08754363164653,
  66.97589892744763,
  183.46936300463122
 ],
 "stdvValues": [
  45.66888637390737,
  50.14258055308059,
  63.94522422800045
 ],
 "objectIdField": "",
 "fields": [],
 "capabilities": "Image, Metadata",
 "defaultMosaicMethod": "Center",
 "allowedMosaicMethods": "",
 "sortField": "",
 "sortValue": null,
 "sortAscending": true,
 "mosaicOperator": "First",
 "defaultCompressionQuality": 75,
 "defaultResamplingMethod": "Bilinear",
 "maxImageHeight": 4100,
 "maxImageWidth": 15000,
 "singleFusedMapCache": true,
 "tileInfo": {
  "rows": 256,
  "cols": 256,
  "dpi": 96,
  "format": "LERC2D",
  "compressionQuality": 100000,
  "lercError": 0.1,
  "origin": {
   "x": -1.9384312230212327E7,
   "y": 2877729.9008951806
  },
  "spatialReference": {
   "wkid": 102100,
   "latestWkid": 3857
  },
  "lods": [
   {
    "level": 0,
    "resolution": 3427.757460244549,
    "scale": 1.2955277876143476E7
   },
   {
    "level": 1,
    "resolution": 1713.8787301222744,
    "scale": 6477638.938071738
   },
   {
    "level": 2,
    "resolution": 856.9393650611372,
    "scale": 3238819.469035869
   },
   {
    "level": 3,
    "resolution": 428.4696825305686,
    "scale": 1619409.7345179345
   },
   {
    "level": 4,
    "resolution": 214.2348412652843,
    "scale": 809704.8672589672
   },
   {
    "level": 5,
    "resolution": 107.11742063264215,
    "scale": 404852.4336294836
   }
  ]
 },
 "storageInfo": {
  "storageFormat": "esriMapCacheStorageModeCompactV2",
  "packetSize": 16
 },
 "cacheType": "Raster",
 "allowRasterFunction": true,
 "rasterFunctionInfos": [
  {
   "name": "None",
   "description": "",
   "help": ""
  }
 ],
 "rasterTypeInfos": [
  {
   "name": "Raster Dataset",
   "description": "Supports all ArcGIS Raster Datasets",
   "help": ""
  }
 ],
 "mensurationCapabilities": "Basic",
 "hasHistograms": true,
 "hasColormap": false,
 "hasRasterAttributeTable": false,
 "minScale": 0,
 "maxScale": 0,
 "exportTilesAllowed": false,
 "supportsStatistics": false,
 "supportsAdvancedQueries": false,
 "editFieldsInfo": null,
 "ownershipBasedAccessControlForRasters": null,
 "allowComputeTiePoints": false,
 "useStandardizedQueries": true,
 "advancedQueryCapabilities": {
  "useStandardizedQueries": true,
  "supportsStatistics": false,
  "supportsOrderBy": false,
  "supportsDistinct": false,
  "supportsPagination": false
 },
 "spatialReference": {
  "wkid": 102100,
  "latestWkid": 3857
 }
}
