{
 "currentVersion": 10.91,
 "serviceDescription": "LOTS_Atlantic/Atlantic_Bathymetry_201910_100m_IS",
 "name": "LOTS_Atlantic/Atlantic_Bathymetry_201910_100m_IS",
 "description": "",
 "extent": {
  "xmin": -9189200,
  "ymin": 3004300,
  "xmax": -5936300,
  "ymax": 5569600,
  "spatialReference": {
   "wkid": 102100,
   "latestWkid": 3857
  }
 },
 "initialExtent": {
  "xmin": -9189200,
  "ymin": 3004300,
  "xmax": -5936300,
  "ymax": 5569600,
  "spatialReference": {
   "wkid": 102100,
   "latestWkid": 3857
  }
 },
 "fullExtent": {
  "xmin": -9189200,
  "ymin": 3004300,
  "xmax": -5936300,
  "ymax": 5569600,
  "spatialReference": {
   "wkid": 102100,
   "latestWkid": 3857
  }
 },
 "hasMultidimensions": false,
 "pixelSizeX": 100,
 "pixelSizeY": 100,
 "datasetFormat": "FGDBR",
 "uncompressedSize": 3337865748,
 "blockWidth": 128,
 "blockHeight": 128,
 "compressionType": "LZ77",
 "bandNames": [
  "Band_1"
 ],
 "allowCopy": true,
 "allowAnalysis": true,
 "bandCount": 1,
 "pixelType": "F32",
 "minPixelSize": 0,
 "maxPixelSize": 0,
 "copyrightText": "",
 "serviceDataType": "esriImageServiceDataTypeGeneric",
 "serviceSourceType": "esriImageServiceSourceTypeDataset",
 "minValues": [
  -5608.8232421875
 ],
 "maxValues": [
  -14.34000015258789
 ],
 "meanValues": [
  -3888.0721106671917
 ],
 "stdvValues": [
  1323.3004905846456
 ],
 "objectIdField": "",
 "fields": [],
 "capabilities": "Image,Metadata,Mensuration",
 "defaultMosaicMethod": "Center",
 "allowedMosaicMethods": "",
 "sortField": "",
 "sortValue": null,
 "sortAscending": true,
 "mosaicOperator": "First",
 "defaultCompressionQuality": 75,
 "defaultResamplingMethod": "Bilinear",
 "maxImageHeight": 4100,
 "maxImageWidth": 15000,
 "allowRasterFunction": true,
 "rasterFunctionInfos": [
  {
   "name": "BlueGreen2ColorRamp",
   "description": "Blue Green 2 Color Ramp",
   "help": ""
  },
  {
   "name": "BlueGreen3ColorRamp",
   "description": "Blue Green 3 Color Ramp",
   "help": ""
  },
  {
   "name": "BlueGreenColorRamp",
   "description": "Blue Green Color Ramp",
   "help": ""
  },
  {
   "name": "Contour100m",
   "description": "100 meter Contours with 500 meter thicker lines.\n",
   "help": ""
  },
  {
   "name": "Contour250m",
   "description": "250 meter Contours with 1000 meter thicker lines.\n",
   "help": ""
  },
  {
   "name": "Contour500m",
   "description": "500 meter Contours with 2000 meter thicker lines.\n",
   "help": ""
  },
  {
   "name": "Hillshade_MultiDir_3x",
   "description": "HillShade_MultiDirection_3X",
   "help": ""
  },
  {
   "name": "Hillshade_MultiDir_5x",
   "description": "HillShade_MultiDirection_5X",
   "help": ""
  },
  {
   "name": "RainbowColorRamp2",
   "description": "Rainbow Color Ramp2",
   "help": ""
  },
  {
   "name": "RainbowColorRamp3",
   "description": "Rainbow Color Ramp3",
   "help": ""
  },
  {
   "name": "RainbowColorRamp",
   "description": "Rainbow Color Ramp",
   "help": ""
  },
  {
   "name": "ShadedRelief_BlueGreen_3x",
   "description": "Creates a multiband, color coded, 3D representation of the surface, with the sun's relative position taken into account for shading the image.",
   "help": ""
  },
  {
   "name": "ShadedRelief_BlueGreen_5x",
   "description": "Shaded Relief 5X\n",
   "help": ""
  },
  {
   "name": "ShadedRelief_Rainbow_3x",
   "description": "Creates a multiband, color coded, 3D representation of the surface, with the sun's relative position taken into account for shading the image.",
   "help": ""
  },
  {
   "name": "ShadedRelief_Rainbow_5x",
   "description": "Creates a multiband, color coded, 3D representation of the surface, with the sun's relative position taken into account for shading the image.\n",
   "help": ""
  },
  {
   "name": "None",
   "description": "",
   "help": ""
  }
 ],
 "rasterTypeInfos": [
  {
   "name": "Raster Dataset",
   "description": "Supports all ArcGIS Raster Datasets",
   "help": ""
  }
 ],
 "mensurationCapabilities": "Basic",
 "hasHistograms": true,
 "hasColormap": false,
 "hasRasterAttributeTable": false,
 "minScale": 0,
 "maxScale": 0,
 "exportTilesAllowed": false,
 "supportsStatistics": false,
 "supportsAdvancedQueries": false,
 "editFieldsInfo": null,
 "ownershipBasedAccessControlForRasters": null,
 "allowComputeTiePoints": false,
 "useStandardizedQueries": true,
 "advancedQueryCapabilities": {
  "useStandardizedQueries": true,
  "supportsStatistics": false,
  "supportsOrderBy": false,
  "supportsDistinct": false,
  "supportsPagination": false
 },
 "spatialReference": {
  "wkid": 102100,
  "latestWkid": 3857
 }
}
