{
 "currentVersion": 10.91,
 "serviceDescription": "OET/NA_EM032_Bathymetry_Image_Service",
 "name": "OET/NA_EM032_Bathymetry_Image_Service",
 "description": "",
 "extent": {
  "xmin": -1.97790245378E7,
  "ymin": -1631988.4822000004,
  "xmax": -1.21000245378E7,
  "ymax": 7133011.517800003,
  "spatialReference": {
   "wkid": 102100,
   "latestWkid": 3857
  }
 },
 "initialExtent": {
  "xmin": -1.97790245378E7,
  "ymin": -1631988.4822000004,
  "xmax": -1.21000245378E7,
  "ymax": 7133011.517800003,
  "spatialReference": {
   "wkid": 102100,
   "latestWkid": 3857
  }
 },
 "fullExtent": {
  "xmin": -1.97790245378E7,
  "ymin": -1631988.4822000004,
  "xmax": -1.21000245378E7,
  "ymax": 7133011.517800003,
  "spatialReference": {
   "wkid": 102100,
   "latestWkid": 3857
  }
 },
 "hasMultidimensions": false,
 "pixelSizeX": 7679000,
 "pixelSizeY": 8765000.000000004,
 "datasetFormat": "AMD",
 "uncompressedSize": 4,
 "blockWidth": 2048,
 "blockHeight": 256,
 "compressionType": "None",
 "bandNames": [
  "Band_1"
 ],
 "allowCopy": true,
 "allowAnalysis": true,
 "bandCount": 1,
 "pixelType": "F32",
 "minPixelSize": 0,
 "maxPixelSize": 0,
 "copyrightText": "",
 "serviceDataType": "esriImageServiceDataTypeGeneric",
 "serviceSourceType": "esriImageServiceSourceTypeMosaicDataset",
 "minValues": [
  -5502.359292853624
 ],
 "maxValues": [
  -36.00392163917422
 ],
 "meanValues": [
  -1308.6205349624015
 ],
 "stdvValues": [
  1109.1467523994515
 ],
 "objectIdField": "OBJECTID",
 "fields": [
  {
   "name": "OBJECTID",
   "type": "esriFieldTypeOID",
   "alias": "OBJECTID",
   "domain": null
  },
  {
   "name": "Shape",
   "type": "esriFieldTypeGeometry",
   "alias": "Shape",
   "domain": null
  },
  {
   "name": "Name",
   "type": "esriFieldTypeString",
   "alias": "Name",
   "domain": null,
   "length": 200
  },
  {
   "name": "MinPS",
   "type": "esriFieldTypeDouble",
   "alias": "MinPS",
   "domain": null
  },
  {
   "name": "MaxPS",
   "type": "esriFieldTypeDouble",
   "alias": "MaxPS",
   "domain": null
  },
  {
   "name": "LowPS",
   "type": "esriFieldTypeDouble",
   "alias": "LowPS",
   "domain": null
  },
  {
   "name": "HighPS",
   "type": "esriFieldTypeDouble",
   "alias": "HighPS",
   "domain": null
  },
  {
   "name": "Category",
   "type": "esriFieldTypeInteger",
   "alias": "Category",
   "domain": {
    "type": "codedValue",
    "name": "MosaicCatalogItemCategoryDomain",
    "description": "Catalog item categories.",
    "codedValues": [
     {
      "name": "Unknown",
      "code": 0
     },
     {
      "name": "Primary",
      "code": 1
     },
     {
      "name": "Overview",
      "code": 2
     },
     {
      "name": "Unprocessed Overview",
      "code": 3
     },
     {
      "name": "Partial Overview",
      "code": 4
     },
     {
      "name": "Inactive",
      "code": 5
     },
     {
      "name": "Uploaded",
      "code": 253
     },
     {
      "name": "Incomplete",
      "code": 254
     },
     {
      "name": "Custom",
      "code": 255
     }
    ],
    "mergePolicy": "esriMPTDefaultValue",
    "splitPolicy": "esriSPTDefaultValue"
   }
  },
  {
   "name": "Tag",
   "type": "esriFieldTypeString",
   "alias": "Tag",
   "domain": null,
   "length": 100
  },
  {
   "name": "GroupName",
   "type": "esriFieldTypeString",
   "alias": "GroupName",
   "domain": null,
   "length": 100
  },
  {
   "name": "ProductName",
   "type": "esriFieldTypeString",
   "alias": "ProductName",
   "domain": null,
   "length": 100
  },
  {
   "name": "CenterX",
   "type": "esriFieldTypeDouble",
   "alias": "CenterX",
   "domain": null
  },
  {
   "name": "CenterY",
   "type": "esriFieldTypeDouble",
   "alias": "CenterY",
   "domain": null
  },
  {
   "name": "ZOrder",
   "type": "esriFieldTypeInteger",
   "alias": "ZOrder",
   "domain": null
  },
  {
   "name": "Shape_Length",
   "type": "esriFieldTypeDouble",
   "alias": "Shape_Length",
   "domain": null
  },
  {
   "name": "Shape_Area",
   "type": "esriFieldTypeDouble",
   "alias": "Shape_Area",
   "domain": null
  }
 ],
 "capabilities": "Image,Metadata,Catalog,Download",
 "defaultMosaicMethod": "ByAttribute",
 "allowedMosaicMethods": "ByAttribute,NorthWest,Center,LockRaster,Nadir,Viewpoint,Seamline,None",
 "sortField": "LowPS",
 "sortValue": "",
 "sortAscending": false,
 "mosaicOperator": "First",
 "maxDownloadSizeLimit": 2048,
 "defaultCompressionQuality": 75,
 "defaultResamplingMethod": "Bilinear",
 "maxImageHeight": 4100,
 "maxImageWidth": 15000,
 "maxRecordCount": 1000,
 "maxDownloadImageCount": 20,
 "maxMosaicImageCount": 70,
 "allowRasterFunction": true,
 "rasterFunctionInfos": [
  {
   "name": "None",
   "description": "Make a Raster or Raster Dataset into a Function Raster Dataset.",
   "help": ""
  },
  {
   "name": "AspectSlope",
   "description": "Creates a raster that simultaneously displays the aspect (direction) and slope(steepness) of a continuous surface, as represented in a digital elevation model.",
   "help": ""
  },
  {
   "name": "Contour",
   "description": "Creates contour lines.",
   "help": ""
  },
  {
   "name": "Shaded Relief",
   "description": "Creates a multiband, color coded, 3D representation of the surface, with the sun's relative position taken into account for shading the image.",
   "help": ""
  },
  {
   "name": "Slope",
   "description": "Calculates the rate of change from one pixel value to its neighbors.",
   "help": ""
  },
  {
   "name": "Hillshade_Multidirectional_7x",
   "description": "Hillshade_Multidirectional_7x",
   "help": ""
  },
  {
   "name": "BlueGreen2ColorRamp",
   "description": "Blue Green 2 Color Ramp",
   "help": "\n "
  },
  {
   "name": "BlueGreen3ColorRamp",
   "description": "Blue Green 3 Color Ramp",
   "help": "\n "
  },
  {
   "name": "BlueGreenColorRamp",
   "description": "Blue Green Color Ramp",
   "help": "\n "
  },
  {
   "name": "Contour2m",
   "description": "2m Contour Interval",
   "help": ""
  },
  {
   "name": "Contour5m",
   "description": "5m Contour Interval",
   "help": ""
  },
  {
   "name": "Contour10m",
   "description": "10m Contour Interval",
   "help": ""
  },
  {
   "name": "Contour100m",
   "description": "100 meter Contours with 500 meter thicker lines.\n",
   "help": ""
  },
  {
   "name": "Contour250m",
   "description": "250 meter Contours with 1000 meter thicker lines.\n",
   "help": ""
  },
  {
   "name": "Contour500m",
   "description": "500 meter Contours with 2000 meter thicker lines.\n",
   "help": ""
  },
  {
   "name": "RainbowColorRamp2",
   "description": "Rainbow Color Ramp2",
   "help": ""
  },
  {
   "name": "RainbowColorRamp3",
   "description": "Rainbow Color Ramp3",
   "help": ""
  },
  {
   "name": "RainbowColorRamp",
   "description": "Rainbow Color Ramp",
   "help": ""
  }
 ],
 "rasterTypeInfos": [
  {
   "name": "Raster Dataset",
   "description": "Supports all ArcGIS Raster Datasets",
   "help": ""
  }
 ],
 "mensurationCapabilities": "",
 "hasHistograms": true,
 "hasColormap": false,
 "hasRasterAttributeTable": false,
 "minScale": 0,
 "maxScale": 0,
 "exportTilesAllowed": false,
 "supportsStatistics": true,
 "supportsAdvancedQueries": true,
 "editFieldsInfo": null,
 "ownershipBasedAccessControlForRasters": null,
 "allowComputeTiePoints": false,
 "useStandardizedQueries": true,
 "advancedQueryCapabilities": {
  "useStandardizedQueries": true,
  "supportsStatistics": true,
  "supportsOrderBy": true,
  "supportsDistinct": true,
  "supportsPagination": true
 },
 "spatialReference": {
  "wkid": 102100,
  "latestWkid": 3857
 }
}
