View In:
ArcGIS JavaScript
ArcGIS Online Map Viewer
ArcGIS Earth
ArcMap
View Footprint In:
ArcGIS Online Map Viewer
Service Description: GEBCO2022/GEBCO_2022_GCS_5x_Elev_Service
Name: GEBCO2022/GEBCO_2022_GCS_5x_Elev_Service
Description:
Single Fused Map Cache: false
Extent:
XMin: -179.99999999999997
YMin: -89.99999999999999
XMax: 179.99999999999997
YMax: 89.99999999999999
Spatial Reference: 4326
(4326)
LatestVCSWkid(0)
Initial Extent:
XMin: -179.99999999999997
YMin: -89.99999999999999
XMax: 179.99999999999997
YMax: 89.99999999999999
Spatial Reference: 4326
(4326)
LatestVCSWkid(0)
Full Extent:
XMin: -179.99999999999997
YMin: -89.99999999999999
XMax: 179.99999999999997
YMax: 89.99999999999999
Spatial Reference: 4326
(4326)
LatestVCSWkid(0)
Pixel Size X: 0.004166666666666666
Pixel Size Y: 0.004166666666666666
Band Count: 1
Pixel Type: F32
RasterFunction Infos: {"rasterFunctionInfos": [{
"name": "None",
"description": "",
"help": ""
}]}
Mensuration Capabilities: Basic
Has Histograms: true
Has Colormap: false
Has Multi Dimensions : false
Rendering Rule:
Min Scale: 2.958287637958547E8
Max Scale: 288895.27714438934
Min LOD: 0
Max LOD: 10
Copyright Text:
Service Data Type: esriImageServiceDataTypeElevation
Min Values: -54615
Max Values: 43135
Mean Values: -9494.0338302
Standard Deviation Values: 13267.123669493
Object ID Field:
Fields:
None
Default Mosaic Method: Center
Allowed Mosaic Methods:
SortField:
SortValue: null
Mosaic Operator: First
Default Compression Quality: 75
Default Resampling Method: Bilinear
Max Record Count: null
Max Image Height: 4100
Max Image Width: 15000
Max Download Image Count: null
Max Mosaic Image Count: null
Allow Raster Function: true
Allow Copy: true
Allow Analysis: true
Allow Compute TiePoints: false
Supports Statistics: false
Supports Advanced Queries: false
Use StandardizedQueries: true
Raster Type Infos:
Name: Raster Dataset
Description: Supports all ArcGIS Raster Datasets
Help:
Has Raster Attribute Table: false
Edit Fields Info: null
Ownership Based AccessControl For Rasters: null
Child Resources:
Info
Histograms
Statistics
Key Properties
Legend
Raster Function Infos
Supported Operations:
Export Image
Identify
Measure
Compute Histograms
Compute Statistics Histograms
Get Samples
Compute Class Statistics
Query Boundary
Compute Pixel Location
Compute Angles
Validate
Project
Calculate Volume