View In:
ArcGIS JavaScript
ArcGIS Online Map Viewer
ArcGIS Earth
ArcMap
View Footprint In:
ArcGIS Online Map Viewer
Service Description: GEBCO_2021_Bathymetry_Direct_Measurement_WEL
Name: GEBCO_2021_Bathymetry_Direct_Measurement_WEL
Description:
Single Fused Map Cache: false
Extent:
XMin: -2.0037714E7
YMin: -3.0241308E7
XMax: 2.0039566E7
YMax: 3.0241308E7
Spatial Reference: 102100
(3857)
LatestVCSWkid(0)
Initial Extent:
XMin: -2.0037714E7
YMin: -3.0241308E7
XMax: 2.0039566E7
YMax: 3.0241308E7
Spatial Reference: 102100
(3857)
LatestVCSWkid(0)
Full Extent:
XMin: -2.0037714E7
YMin: -3.0241308E7
XMax: 2.0039566E7
YMax: 3.0241308E7
Spatial Reference: 102100
(3857)
LatestVCSWkid(0)
Pixel Size X: 1852.0
Pixel Size Y: 1852.0
Band Count: 1
Pixel Type: F32
RasterFunction Infos: {"rasterFunctionInfos": [{
"name": "None",
"description": "",
"help": ""
}]}
Mensuration Capabilities: Basic
Has Histograms: true
Has Colormap: false
Has Multi Dimensions : false
Rendering Rule:
Min Scale: 5.91657527591555E8
Max Scale: 9244648.868618
Min LOD: 0
Max LOD: 6
Copyright Text:
Service Data Type: esriImageServiceDataTypeGeneric
Min Values: -76167.4375
Max Values: 57694
Mean Values: -6381.9099480058
Standard Deviation Values: 19922.689202488
Object ID Field:
Fields:
None
Default Mosaic Method: Center
Allowed Mosaic Methods:
SortField:
SortValue: null
Mosaic Operator: First
Default Compression Quality: 75
Default Resampling Method: Bilinear
Max Record Count: null
Max Image Height: 4100
Max Image Width: 15000
Max Download Image Count: null
Max Mosaic Image Count: null
Allow Raster Function: true
Allow Copy: true
Allow Analysis: true
Allow Compute TiePoints: false
Supports Statistics: false
Supports Advanced Queries: false
Use StandardizedQueries: true
Raster Type Infos:
Name: Raster Dataset
Description: Supports all ArcGIS Raster Datasets
Help:
Has Raster Attribute Table: false
Edit Fields Info: null
Ownership Based AccessControl For Rasters: null
Child Resources:
Info
Histograms
Statistics
Key Properties
Legend
Raster Function Infos
Supported Operations:
Export Image
Identify
Measure
Compute Histograms
Compute Statistics Histograms
Get Samples
Compute Class Statistics
Query Boundary
Compute Pixel Location
Compute Angles
Validate
Project