View In:
ArcGIS JavaScript
ArcGIS Online Map Viewer
ArcGIS Earth
ArcMap
View Footprint In:
ArcGIS Online Map Viewer
Service Description: GulfOfMaine/WGOM_Regional_Bathymetry_8m
Name: GulfOfMaine/WGOM_Regional_Bathymetry_8m
Description:
Single Fused Map Cache: false
Extent:
XMin: -8045999.25001078
YMin: 5044403.250012553
XMax: -7527823.25001078
YMax: 5565755.250012553
Spatial Reference: 102100
(3857)
LatestVCSWkid(0)
Initial Extent:
XMin: -8045999.25001078
YMin: 5044403.250012553
XMax: -7527823.25001078
YMax: 5565755.250012553
Spatial Reference: 102100
(3857)
LatestVCSWkid(0)
Full Extent:
XMin: -8045999.25001078
YMin: 5044403.250012553
XMax: -7527823.25001078
YMax: 5565755.250012553
Spatial Reference: 102100
(3857)
LatestVCSWkid(0)
Pixel Size X: 8.0
Pixel Size Y: 8.0
Band Count: 1
Pixel Type: F32
RasterFunction Infos: {"rasterFunctionInfos": [{
"name": "None",
"description": "",
"help": ""
}]}
Mensuration Capabilities: Basic
Has Histograms: true
Has Colormap: false
Has Multi Dimensions : false
Rendering Rule:
Min Scale: 0
Max Scale: 0
Copyright Text:
Service Data Type: esriImageServiceDataTypeGeneric
Min Values: -296.71551513671875
Max Values: 71.47799682617188
Mean Values: -122.26593203922182
Standard Deviation Values: 75.37258790592134
Object ID Field:
Fields:
None
Default Mosaic Method: Center
Allowed Mosaic Methods:
SortField:
SortValue: null
Mosaic Operator: First
Default Compression Quality: 75
Default Resampling Method: Bilinear
Max Record Count: null
Max Image Height: 20000
Max Image Width: 20000
Max Download Image Count: null
Max Mosaic Image Count: null
Allow Raster Function: true
Allow Copy: null
Allow Analysis: null
Allow Compute TiePoints: false
Supports Statistics: false
Supports Advanced Queries: false
Use StandardizedQueries: true
Raster Type Infos:
Name: Raster Dataset
Description: Supports all ArcGIS Raster Datasets
Help:
Has Raster Attribute Table: false
Edit Fields Info: null
Ownership Based AccessControl For Rasters: null
Child Resources:
Info
Histograms
Key Properties
Legend
Raster Function Infos
Supported Operations:
Export Image
Identify
Measure
Compute Histograms
Compute Statistics Histograms
Get Samples
Compute Class Statistics
Query Boundary
Compute Pixel Location
Compute Angles
Validate
Project