View In:
ArcGIS JavaScript
ArcGIS Online Map Viewer
ArcGIS Earth
ArcMap
View Footprint In:
ArcGIS Online Map Viewer
Service Description: GulfOfMaine/WGOM_Slope_Image_Service
Name: GulfOfMaine/WGOM_Slope_Image_Service
Description:
Single Fused Map Cache: false
Extent:
XMin: -7911758.50001078
YMin: 5104523.250012553
XMax: -7652568.50001078
YMax: 5532103.250012553
Spatial Reference: 102100
(3857)
LatestVCSWkid(0)
Initial Extent:
XMin: -7911758.50001078
YMin: 5104523.250012553
XMax: -7652568.50001078
YMax: 5532103.250012553
Spatial Reference: 102100
(3857)
LatestVCSWkid(0)
Full Extent:
XMin: -7911758.50001078
YMin: 5104523.250012553
XMax: -7652568.50001078
YMax: 5532103.250012553
Spatial Reference: 102100
(3857)
LatestVCSWkid(0)
Pixel Size X: 2.0
Pixel Size Y: 2.0
Band Count: 1
Pixel Type: F32
RasterFunction Infos: {"rasterFunctionInfos": [
{
"name": "Slope_MBS_Tests",
"description": "Slopes with custom color pallette",
"help": ""
},
{
"name": "Slope_10to30",
"description": "Slope Ideintification 10degrees to 30 degrees",
"help": ""
},
{
"name": "Slope_LessThan2",
"description": "Slope Identification Less Than 2 Degrees",
"help": ""
},
{
"name": "None",
"description": "",
"help": ""
}
]}
Mensuration Capabilities: Basic
Has Histograms: true
Has Colormap: false
Has Multi Dimensions : false
Rendering Rule:
Min Scale: 0
Max Scale: 0
Copyright Text:
Service Data Type: esriImageServiceDataTypeGeneric
Min Values: 0
Max Values: 87.52230834960938
Mean Values: 1.9840804416799682
Standard Deviation Values: 3.130077336552956
Object ID Field:
Fields:
None
Default Mosaic Method: Center
Allowed Mosaic Methods:
SortField:
SortValue: null
Mosaic Operator: First
Default Compression Quality: 75
Default Resampling Method: Bilinear
Max Record Count: null
Max Image Height: 15000
Max Image Width: 15000
Max Download Image Count: null
Max Mosaic Image Count: null
Allow Raster Function: true
Allow Copy: true
Allow Analysis: true
Allow Compute TiePoints: false
Supports Statistics: false
Supports Advanced Queries: false
Use StandardizedQueries: true
Raster Type Infos:
Name: Raster Dataset
Description: Supports all ArcGIS Raster Datasets
Help:
Has Raster Attribute Table: false
Edit Fields Info: null
Ownership Based AccessControl For Rasters: null
Child Resources:
Info
Histograms
Statistics
Key Properties
Legend
Raster Function Infos
Supported Operations:
Export Image
Identify
Measure
Compute Histograms
Compute Statistics Histograms
Get Samples
Compute Class Statistics
Query Boundary
Compute Pixel Location
Compute Angles
Validate
Project