View In:
ArcGIS JavaScript
ArcGIS Online Map Viewer
ArcGIS Earth
ArcMap
View Footprint In:
ArcGIS Online Map Viewer
Service Description: MAC/soest_mhi_mbsyn_bathy_v21_wmas_IS
Name: MAC/soest_mhi_mbsyn_bathy_v21_wmas_IS
Description:
Single Fused Map Cache: false
Extent:
XMin: -1.8033785338383015E7
YMin: 1920755.3312505046
XMax: -1.7031845338383015E7
YMax: 2875775.3312505046
Spatial Reference: 102100
(3857)
LatestVCSWkid(0)
Initial Extent:
XMin: -1.8033785338383015E7
YMin: 1920755.3312505046
XMax: -1.7031845338383015E7
YMax: 2875775.3312505046
Spatial Reference: 102100
(3857)
LatestVCSWkid(0)
Full Extent:
XMin: -1.8033785338383015E7
YMin: 1920755.3312505046
XMax: -1.7031845338383015E7
YMax: 2875775.3312505046
Spatial Reference: 102100
(3857)
LatestVCSWkid(0)
Pixel Size X: 60.0
Pixel Size Y: 60.0
Band Count: 1
Pixel Type: F32
RasterFunction Infos: {"rasterFunctionInfos": [
{
"name": "BlueGreen2ColorRamp",
"description": "Blue Green 2 Color Ramp",
"help": ""
},
{
"name": "BlueGreen3ColorRamp",
"description": "Blue Green 3 Color Ramp",
"help": ""
},
{
"name": "BlueGreenColorRamp",
"description": "Blue Green Color Ramp",
"help": ""
},
{
"name": "Contour10m",
"description": "10m Contour Interval",
"help": ""
},
{
"name": "Contour100m",
"description": "100 meter Contours with 500 meter thicker lines.\n",
"help": ""
},
{
"name": "Contour250m",
"description": "250 meter Contours with 1000 meter thicker lines.\n",
"help": ""
},
{
"name": "Contour500m",
"description": "500 meter Contours with 2000 meter thicker lines.\n",
"help": ""
},
{
"name": "Hillshade_MultiDir_3x",
"description": "HillShade_MultiDirection_3X",
"help": ""
},
{
"name": "Hillshade_MultiDir_5x",
"description": "HillShade_MultiDirection_5X",
"help": ""
},
{
"name": "RainbowColorRamp2",
"description": "Rainbow Color Ramp2",
"help": ""
},
{
"name": "RainbowColorRamp3",
"description": "Rainbow Color Ramp3",
"help": ""
},
{
"name": "RainbowColorRamp",
"description": "Rainbow Color Ramp",
"help": ""
},
{
"name": "ShadedRelief_BlueGreen_3x",
"description": "Creates a multiband, color coded, 3D representation of the surface, with the sun's relative position taken into account for shading the image.",
"help": ""
},
{
"name": "ShadedRelief_BlueGreen_5x",
"description": "Shaded Relief 5X\n",
"help": ""
},
{
"name": "ShadedRelief_Rainbow_3x",
"description": "Creates a multiband, color coded, 3D representation of the surface, with the sun's relative position taken into account for shading the image.",
"help": ""
},
{
"name": "ShadedRelief_Rainbow_5x",
"description": "Creates a multiband, color coded, 3D representation of the surface, with the sun's relative position taken into account for shading the image.\n",
"help": ""
},
{
"name": "Slope",
"description": "Calculates the rate of change from one pixel value to its neighbors.",
"help": ""
},
{
"name": "None",
"description": "",
"help": ""
}
]}
Mensuration Capabilities: Basic
Has Histograms: true
Has Colormap: false
Has Multi Dimensions : false
Rendering Rule:
Min Scale: 0
Max Scale: 0
Copyright Text:
Service Data Type: esriImageServiceDataTypeGeneric
Min Values: -6181.30712890625
Max Values: -0.10043260455131531
Mean Values: -4397.871421810265
Standard Deviation Values: 1042.653857043566
Object ID Field:
Fields:
None
Default Mosaic Method: Center
Allowed Mosaic Methods:
SortField:
SortValue: null
Mosaic Operator: First
Default Compression Quality: 75
Default Resampling Method: Bilinear
Max Record Count: null
Max Image Height: 4100
Max Image Width: 15000
Max Download Image Count: null
Max Mosaic Image Count: null
Allow Raster Function: true
Allow Copy: true
Allow Analysis: true
Allow Compute TiePoints: false
Supports Statistics: false
Supports Advanced Queries: false
Use StandardizedQueries: true
Raster Type Infos:
Name: Raster Dataset
Description: Supports all ArcGIS Raster Datasets
Help:
Has Raster Attribute Table: false
Edit Fields Info: null
Ownership Based AccessControl For Rasters: null
Child Resources:
Info
Histograms
Statistics
Key Properties
Legend
Raster Function Infos
Supported Operations:
Export Image
Identify
Measure
Compute Histograms
Compute Statistics Histograms
Get Samples
Compute Class Statistics
Query Boundary
Compute Pixel Location
Compute Angles
Validate
Project