View In:
  ArcGIS JavaScript
  ArcGIS Online Map Viewer
  ArcGIS Earth
  ArcMap
View Footprint In:
  ArcGIS Online Map Viewer
Service Description:  WGOM_LI_SNE/WGOM_LI_SNE_Regional_with_HighResolution_IS
Name:  WGOM_LI_SNE/WGOM_LI_SNE_Regional_with_HighResolution_IS
Description:  
Single Fused Map Cache:  false
Extent: 
XMin: -8313627.3487
YMin: 4898562.901300003
XMax: -7454551.3487
YMax: 5636590.901300003
Spatial Reference: 102100
 (3857)
 LatestVCSWkid(0)
Initial Extent: 
XMin: -8313627.3487
YMin: 4898562.901300003
XMax: -7454551.3487
YMax: 5636590.901300003
Spatial Reference: 102100
 (3857)
 LatestVCSWkid(0)
Full Extent: 
XMin: -8313627.3487
YMin: 4898562.901300003
XMax: -7454551.3487
YMax: 5636590.901300003
Spatial Reference: 102100
 (3857)
 LatestVCSWkid(0)
Pixel Size X:  4.0
Pixel Size Y:  4.0
Band Count: 1
Pixel Type: F32
RasterFunction Infos:  {"rasterFunctionInfos": [
 {
  "name": "None",
  "description": "Make a Raster or Raster Dataset into a Function Raster Dataset.",
  "help": ""
 },
 {
  "name": "BlueGreen2ColorRamp",
  "description": "Blue Green 2 Color Ramp",
  "help": "\n  "
 },
 {
  "name": "BlueGreen3ColorRamp",
  "description": "Blue Green 3 Color Ramp",
  "help": "\n  "
 },
 {
  "name": "BlueGreenColorRamp",
  "description": "Blue Green Color Ramp",
  "help": "\n  "
 },
 {
  "name": "Contour2m",
  "description": "2m Contour Interval",
  "help": ""
 },
 {
  "name": "Contour5m",
  "description": "5m Contour Interval",
  "help": ""
 },
 {
  "name": "Contour10m",
  "description": "10m Contour Interval",
  "help": ""
 },
 {
  "name": "Contour100m",
  "description": "100 meter Contours with 500 meter thicker lines.\n",
  "help": ""
 },
 {
  "name": "Contour250m",
  "description": "250 meter Contours with 1000 meter thicker lines.\n",
  "help": ""
 },
 {
  "name": "Contour500m",
  "description": "500 meter Contours with 2000 meter thicker lines.\n",
  "help": ""
 },
 {
  "name": "Hillshade",
  "description": "Creates a 3D representation of the surface, with the sun's relative position taken into account for shading the image.",
  "help": ""
 },
 {
  "name": "Rainbow_2STDEV",
  "description": "Rainbow Color Ramp with 2 STDEV stretch\n",
  "help": ""
 },
 {
  "name": "RainbowColorRamp2",
  "description": "Rainbow Color Ramp2",
  "help": ""
 },
 {
  "name": "RainbowColorRamp3",
  "description": "Rainbow Color Ramp3",
  "help": ""
 },
 {
  "name": "RainbowColorRamp",
  "description": "Rainbow Color Ramp",
  "help": ""
 },
 {
  "name": "Shaded Relief",
  "description": "Creates a multiband, color coded, 3D representation of the surface, with the sun's relative position taken into account for shading the image.",
  "help": ""
 },
 {
  "name": "ShadedRelief_BlueGreen_3x",
  "description": "Creates a multiband, color coded, 3D representation of the surface, with the sun's relative position taken into account for shading the image.",
  "help": ""
 },
 {
  "name": "ShadedRelief_BlueGreen_5x",
  "description": "Shaded Relief 5X\n",
  "help": ""
 },
 {
  "name": "ShadedRelief_Rainbow_3x",
  "description": "Creates a multiband, color coded, 3D representation of the surface, with the sun's relative position taken into account for shading the image.",
  "help": ""
 },
 {
  "name": "ShadedRelief_Rainbow_5x",
  "description": "Creates a multiband, color coded, 3D representation of the surface, with the sun's relative position taken into account for shading the image.\n",
  "help": ""
 },
 {
  "name": "StdDev1pt5_Grey",
  "description": "Standard Deviation Strech (1.5) with Grey Colormap\n",
  "help": ""
 },
 {
  "name": "StdDev2_Grey",
  "description": "Standard Deviation 2 Grey\n",
  "help": ""
 }
]}
Mensuration Capabilities: Basic
Has Histograms:  true
Has Colormap:  false
Has Multi Dimensions :  false
Rendering Rule: 
Min Scale:  0
Max Scale:  0
Copyright Text:  
Service Data Type:  esriImageServiceDataTypeElevation
Min Values:  -235.6226043701172
Max Values:  2.3998963832855225
Mean Values:  -62.103050187634636
Standard Deviation Values:  46.641204732984036
Object ID Field:  OBJECTID
Fields: 
- 
OBJECTID
(
type: esriFieldTypeOID, alias: OBJECTID
)
 
- 
Shape
(
type: esriFieldTypeGeometry, alias: Shape
)
 
- 
Name
(
type: esriFieldTypeString, alias: Name, length: 200
)
 
- 
MinPS
(
type: esriFieldTypeDouble, alias: MinPS
)
 
- 
MaxPS
(
type: esriFieldTypeDouble, alias: MaxPS
)
 
- 
LowPS
(
type: esriFieldTypeDouble, alias: LowPS
)
 
- 
HighPS
(
type: esriFieldTypeDouble, alias: HighPS
)
 
- 
Category
(
type: esriFieldTypeInteger, alias: Category
, Coded Values: 
[0: Unknown]
, [1: Primary]
, [2: Overview]
, ...6 more...
)
 
- 
Tag
(
type: esriFieldTypeString, alias: Tag, length: 100
)
 
- 
GroupName
(
type: esriFieldTypeString, alias: GroupName, length: 100
)
 
- 
ProductName
(
type: esriFieldTypeString, alias: ProductName, length: 100
)
 
- 
CenterX
(
type: esriFieldTypeDouble, alias: CenterX
)
 
- 
CenterY
(
type: esriFieldTypeDouble, alias: CenterY
)
 
- 
ZOrder
(
type: esriFieldTypeInteger, alias: ZOrder
)
 
- 
Shape_Length
(
type: esriFieldTypeDouble, alias: Shape_Length
)
 
- 
Shape_Area
(
type: esriFieldTypeDouble, alias: Shape_Area
)
 
Default Mosaic Method:  ByAttribute
Allowed Mosaic Methods:  ByAttribute,NorthWest,Center,LockRaster,Nadir,Viewpoint,Seamline,None
SortField:  ZOrder
SortValue:  
Mosaic Operator:  First
Default Compression Quality:  75
Default Resampling Method:  Bilinear
Max Record Count:  1000
Max Image Height:  4100
Max Image Width:  15000
Max Download Image Count:  20
Max Mosaic Image Count:  110
Allow Raster Function:  true
Allow Copy:  true
Allow Analysis:  true
Allow Compute TiePoints:  false
Supports Statistics:  true
Supports Advanced Queries:  true
Use StandardizedQueries:  true
Raster Type Infos: 
Name: Raster Dataset
Description: Supports all ArcGIS Raster Datasets
Help: 
Has Raster Attribute Table:  false
Edit Fields Info:  null
Ownership Based AccessControl For Rasters:  null
Child Resources:
  
Info
  Histograms
  Statistics
  Key Properties
  Legend
  Raster Function Infos
Supported Operations:
  
Export Image
  Query
  Identify
  Measure
  Compute Histograms
  Compute Statistics Histograms
  Get Samples
  Compute Class Statistics
  Query Boundary
  Compute Pixel Location
  Compute Angles
  Validate
  Project
  Calculate Volume