View In:
ArcGIS JavaScript
ArcGIS Online Map Viewer
ArcGIS Earth
ArcMap
View Footprint In:
ArcGIS Online Map Viewer
Service Description: GEBCO2020/GEBCO_2020_Depths_IS
Name: GEBCO2020/GEBCO_2020_Depths_IS
Description:
Single Fused Map Cache: false
Extent:
XMin: -179.99999999999997
YMin: -90.0
XMax: 179.99999999999997
YMax: 89.99999999999997
Spatial Reference: 4326
(4326)
LatestVCSWkid(0)
Initial Extent:
XMin: -179.99999999999997
YMin: -90.0
XMax: 179.99999999999997
YMax: 89.99999999999997
Spatial Reference: 4326
(4326)
LatestVCSWkid(0)
Full Extent:
XMin: -179.99999999999997
YMin: -90.0
XMax: 179.99999999999997
YMax: 89.99999999999997
Spatial Reference: 4326
(4326)
LatestVCSWkid(0)
Pixel Size X: 0.004166666666666666
Pixel Size Y: 0.004166666666666666
Band Count: 1
Pixel Type: S16
RasterFunction Infos: {"rasterFunctionInfos": [
{
"name": "BlueGreen2_2STDEV",
"description": "Blue Green 2 Color Ramp with 2 STDEV Stretch",
"help": "\n "
},
{
"name": "BlueGreen2_1MinMaxClip",
"description": "Blue Green 2 Color Ramp with 2 STDEV Stretch",
"help": "\n "
},
{
"name": "Hillshade_MultiDir_3x",
"description": "HillShade_MultiDirection_3X",
"help": "\n "
},
{
"name": "Hillshade_MultiDir_5x",
"description": "HillShade_MultiDirection_5X",
"help": "\n "
},
{
"name": "Hillshade_MultiDir_7x",
"description": "HillShade_MultiDirection_7X",
"help": ""
},
{
"name": "Rainbow_1MinMaxClip",
"description": "Rainbow Color Ramp with 1% Min Max Clip\n\n",
"help": "\n "
},
{
"name": "Rainbow_2STDEV",
"description": "Rainbow Color Ramp with 2 STDEV stretch\n",
"help": "\n "
},
{
"name": "None",
"description": "",
"help": ""
}
]}
Mensuration Capabilities: Basic
Has Histograms: true
Has Colormap: false
Has Multi Dimensions : false
Rendering Rule:
Min Scale: 0
Max Scale: 0
Copyright Text:
Service Data Type: esriImageServiceDataTypeGeneric
Min Values: -10951.900032043457
Max Values: 2150.900032043457
Mean Values: -4579.16594071179
Standard Deviation Values: 953.9862472104606
Object ID Field: OBJECTID
Fields:
-
OBJECTID
(
type: esriFieldTypeOID, alias: OBJECTID
)
-
Shape
(
type: esriFieldTypeGeometry, alias: Shape
)
-
Name
(
type: esriFieldTypeString, alias: Name, length: 200
)
-
MinPS
(
type: esriFieldTypeDouble, alias: MinPS
)
-
MaxPS
(
type: esriFieldTypeDouble, alias: MaxPS
)
-
LowPS
(
type: esriFieldTypeDouble, alias: LowPS
)
-
HighPS
(
type: esriFieldTypeDouble, alias: HighPS
)
-
Category
(
type: esriFieldTypeInteger, alias: Category
, Coded Values:
[0: Unknown]
, [1: Primary]
, [2: Overview]
, ...6 more...
)
-
Tag
(
type: esriFieldTypeString, alias: Tag, length: 100
)
-
GroupName
(
type: esriFieldTypeString, alias: GroupName, length: 100
)
-
ProductName
(
type: esriFieldTypeString, alias: ProductName, length: 100
)
-
CenterX
(
type: esriFieldTypeDouble, alias: CenterX
)
-
CenterY
(
type: esriFieldTypeDouble, alias: CenterY
)
-
ZOrder
(
type: esriFieldTypeInteger, alias: ZOrder
)
-
Shape_Length
(
type: esriFieldTypeDouble, alias: Shape_Length
)
-
Shape_Area
(
type: esriFieldTypeDouble, alias: Shape_Area
)
Default Mosaic Method: Northwest
Allowed Mosaic Methods: NorthWest,Center,LockRaster,ByAttribute,Nadir,Viewpoint,Seamline,None
SortField:
SortValue: null
Mosaic Operator: First
Default Compression Quality: 75
Default Resampling Method: Bilinear
Max Record Count: 1000
Max Image Height: 4100
Max Image Width: 15000
Max Download Image Count: 20
Max Mosaic Image Count: 20
Allow Raster Function: true
Allow Copy: true
Allow Analysis: true
Allow Compute TiePoints: false
Supports Statistics: true
Supports Advanced Queries: true
Use StandardizedQueries: true
Raster Type Infos:
Name: Raster Dataset
Description: Supports all ArcGIS Raster Datasets
Help:
Has Raster Attribute Table: false
Edit Fields Info: null
Ownership Based AccessControl For Rasters: null
Child Resources:
Info
Histograms
Statistics
Key Properties
Legend
Raster Function Infos
Supported Operations:
Export Image
Query
Identify
Measure
Compute Histograms
Compute Statistics Histograms
Get Samples
Compute Class Statistics
Query Boundary
Compute Pixel Location
Compute Angles
Validate
Project