View In:
ArcGIS JavaScript
ArcGIS Online Map Viewer
ArcGIS Earth
ArcMap
View Footprint In:
ArcGIS Online Map Viewer
Service Description: Hosted/RT_mapping
Name: Hosted/RT_mapping
Description: The RasterRendering service is a multi-tenant raster rendering provider.
Single Fused Map Cache: true
Tile Info:
- Height: 256
- Width: 256
- DPI: 96
-
Levels of Detail: 6
-
Level ID: 0
[ Start Tile, End Tile ]
- Resolution: 3427.757460244549
- Scale: 1.2955277876143476E7
-
Level ID: 1
[ Start Tile, End Tile ]
- Resolution: 1713.8787301222744
- Scale: 6477638.938071738
-
Level ID: 2
[ Start Tile, End Tile ]
- Resolution: 856.9393650611372
- Scale: 3238819.469035869
-
Level ID: 3
[ Start Tile, End Tile ]
- Resolution: 428.4696825305686
- Scale: 1619409.7345179345
-
Level ID: 4
[ Start Tile, End Tile ]
- Resolution: 214.2348412652843
- Scale: 809704.8672589672
-
Level ID: 5
[ Start Tile, End Tile ]
- Resolution: 107.11742063264215
- Scale: 404852.4336294836
- Format: LERC2D
- Compression Quality: 100000.0
- LERC Error: 0.1
- Origin: X: -1.9384312230212327E7
Y: 2877729.9008951806
- Spatial Reference: 102100
(3857)
LatestVCSWkid(0)
Storage Info:
- Storage Format: esriMapCacheStorageModeCompactV2
- Packet Size: 16
Extent:
XMin: -1.9384312230212327E7
YMin: 2259769.501265468
XMax: -1.7883811401990276E7
YMax: 2877729.9008951806
Spatial Reference: 102100
(3857)
LatestVCSWkid(0)
Initial Extent:
XMin: -1.9384312230212327E7
YMin: 2259769.501265468
XMax: -1.7883811401990276E7
YMax: 2877729.9008951806
Spatial Reference: 102100
(3857)
LatestVCSWkid(0)
Full Extent:
XMin: -1.9384312230212327E7
YMin: 2259769.501265468
XMax: -1.7883811401990276E7
YMax: 2877729.9008951806
Spatial Reference: 102100
(3857)
LatestVCSWkid(0)
Pixel Size X: 107.11742063264215
Pixel Size Y: 107.11742063264215
Band Count: 3
Pixel Type: U8
RasterFunction Infos: {"rasterFunctionInfos": [{
"name": "None",
"description": "",
"help": ""
}]}
Mensuration Capabilities: Basic
Has Histograms: true
Has Colormap: false
Has Multi Dimensions : false
Rendering Rule:
Min Scale: 0
Max Scale: 0
Copyright Text:
Service Data Type: esriImageServiceDataTypeRGB
Min Values: 0, 0, 0
Max Values: 253, 254, 254
Mean Values: 74.08754363164653, 66.97589892744763, 183.46936300463122
Standard Deviation Values: 45.66888637390737, 50.14258055308059, 63.94522422800045
Object ID Field:
Fields:
None
Default Mosaic Method: Center
Allowed Mosaic Methods:
SortField:
SortValue: null
Mosaic Operator: First
Default Compression Quality: 75
Default Resampling Method: Bilinear
Max Record Count: null
Max Image Height: 4100
Max Image Width: 15000
Max Download Image Count: null
Max Mosaic Image Count: null
Allow Raster Function: true
Allow Copy: true
Allow Analysis: true
Allow Compute TiePoints: false
Supports Statistics: false
Supports Advanced Queries: false
Use StandardizedQueries: true
Raster Type Infos:
Name: Raster Dataset
Description: Supports all ArcGIS Raster Datasets
Help:
Has Raster Attribute Table: false
Edit Fields Info: null
Ownership Based AccessControl For Rasters: null
Child Resources:
Info
Histograms
Statistics
Key Properties
Legend
Raster Function Infos
Supported Operations:
Export Image
Identify
Compute Histograms
Compute Statistics Histograms
Get Samples
Compute Class Statistics
Query Boundary
Compute Pixel Location
Compute Angles
Validate
Project