View In:
ArcGIS JavaScript
ArcGIS Online Map Viewer
ArcGIS Earth
ArcMap
View Footprint In:
ArcGIS Online Map Viewer
Service Description: LOTS_Atlantic/Atlantic_Bathymetry_201910_100m_IS
Name: LOTS_Atlantic/Atlantic_Bathymetry_201910_100m_IS
Description:
Single Fused Map Cache: false
Extent:
XMin: -9189200.0
YMin: 3004300.0
XMax: -5936300.0
YMax: 5569600.0
Spatial Reference: 102100
(3857)
LatestVCSWkid(0)
Initial Extent:
XMin: -9189200.0
YMin: 3004300.0
XMax: -5936300.0
YMax: 5569600.0
Spatial Reference: 102100
(3857)
LatestVCSWkid(0)
Full Extent:
XMin: -9189200.0
YMin: 3004300.0
XMax: -5936300.0
YMax: 5569600.0
Spatial Reference: 102100
(3857)
LatestVCSWkid(0)
Pixel Size X: 100.0
Pixel Size Y: 100.0
Band Count: 1
Pixel Type: F32
RasterFunction Infos: {"rasterFunctionInfos": [
{
"name": "BlueGreen2ColorRamp",
"description": "Blue Green 2 Color Ramp",
"help": ""
},
{
"name": "BlueGreen3ColorRamp",
"description": "Blue Green 3 Color Ramp",
"help": ""
},
{
"name": "BlueGreenColorRamp",
"description": "Blue Green Color Ramp",
"help": ""
},
{
"name": "Contour100m",
"description": "100 meter Contours with 500 meter thicker lines.\n",
"help": ""
},
{
"name": "Contour250m",
"description": "250 meter Contours with 1000 meter thicker lines.\n",
"help": ""
},
{
"name": "Contour500m",
"description": "500 meter Contours with 2000 meter thicker lines.\n",
"help": ""
},
{
"name": "Hillshade_MultiDir_3x",
"description": "HillShade_MultiDirection_3X",
"help": ""
},
{
"name": "Hillshade_MultiDir_5x",
"description": "HillShade_MultiDirection_5X",
"help": ""
},
{
"name": "RainbowColorRamp2",
"description": "Rainbow Color Ramp2",
"help": ""
},
{
"name": "RainbowColorRamp3",
"description": "Rainbow Color Ramp3",
"help": ""
},
{
"name": "RainbowColorRamp",
"description": "Rainbow Color Ramp",
"help": ""
},
{
"name": "ShadedRelief_BlueGreen_3x",
"description": "Creates a multiband, color coded, 3D representation of the surface, with the sun's relative position taken into account for shading the image.",
"help": ""
},
{
"name": "ShadedRelief_BlueGreen_5x",
"description": "Shaded Relief 5X\n",
"help": ""
},
{
"name": "ShadedRelief_Rainbow_3x",
"description": "Creates a multiband, color coded, 3D representation of the surface, with the sun's relative position taken into account for shading the image.",
"help": ""
},
{
"name": "ShadedRelief_Rainbow_5x",
"description": "Creates a multiband, color coded, 3D representation of the surface, with the sun's relative position taken into account for shading the image.\n",
"help": ""
},
{
"name": "None",
"description": "",
"help": ""
}
]}
Mensuration Capabilities: Basic
Has Histograms: true
Has Colormap: false
Has Multi Dimensions : false
Rendering Rule:
Min Scale: 0
Max Scale: 0
Copyright Text:
Service Data Type: esriImageServiceDataTypeGeneric
Min Values: -5608.8232421875
Max Values: -14.34000015258789
Mean Values: -3888.0721106671917
Standard Deviation Values: 1323.3004905846456
Object ID Field:
Fields:
None
Default Mosaic Method: Center
Allowed Mosaic Methods:
SortField:
SortValue: null
Mosaic Operator: First
Default Compression Quality: 75
Default Resampling Method: Bilinear
Max Record Count: null
Max Image Height: 4100
Max Image Width: 15000
Max Download Image Count: null
Max Mosaic Image Count: null
Allow Raster Function: true
Allow Copy: true
Allow Analysis: true
Allow Compute TiePoints: false
Supports Statistics: false
Supports Advanced Queries: false
Use StandardizedQueries: true
Raster Type Infos:
Name: Raster Dataset
Description: Supports all ArcGIS Raster Datasets
Help:
Has Raster Attribute Table: false
Edit Fields Info: null
Ownership Based AccessControl For Rasters: null
Child Resources:
Info
Histograms
Statistics
Key Properties
Legend
Raster Function Infos
Supported Operations:
Export Image
Identify
Measure
Compute Histograms
Compute Statistics Histograms
Get Samples
Compute Class Statistics
Query Boundary
Compute Pixel Location
Compute Angles
Validate
Project