View In:
ArcGIS JavaScript
ArcGIS Online Map Viewer
ArcGIS Earth
ArcMap
View Footprint In:
ArcGIS Online Map Viewer
Service Description: OET/NA_EM032_Bathymetry_Image_Service
Name: OET/NA_EM032_Bathymetry_Image_Service
Description:
Single Fused Map Cache: false
Extent:
XMin: -1.97790245378E7
YMin: -1631988.4822000004
XMax: -1.21000245378E7
YMax: 7133011.517800003
Spatial Reference: 102100
(3857)
LatestVCSWkid(0)
Initial Extent:
XMin: -1.97790245378E7
YMin: -1631988.4822000004
XMax: -1.21000245378E7
YMax: 7133011.517800003
Spatial Reference: 102100
(3857)
LatestVCSWkid(0)
Full Extent:
XMin: -1.97790245378E7
YMin: -1631988.4822000004
XMax: -1.21000245378E7
YMax: 7133011.517800003
Spatial Reference: 102100
(3857)
LatestVCSWkid(0)
Pixel Size X: 7679000.0
Pixel Size Y: 8765000.000000004
Band Count: 1
Pixel Type: F32
RasterFunction Infos: {"rasterFunctionInfos": [
{
"name": "None",
"description": "Make a Raster or Raster Dataset into a Function Raster Dataset.",
"help": ""
},
{
"name": "AspectSlope",
"description": "Creates a raster that simultaneously displays the aspect (direction) and slope(steepness) of a continuous surface, as represented in a digital elevation model.",
"help": ""
},
{
"name": "Contour",
"description": "Creates contour lines.",
"help": ""
},
{
"name": "Shaded Relief",
"description": "Creates a multiband, color coded, 3D representation of the surface, with the sun's relative position taken into account for shading the image.",
"help": ""
},
{
"name": "Slope",
"description": "Calculates the rate of change from one pixel value to its neighbors.",
"help": ""
},
{
"name": "Hillshade_Multidirectional_7x",
"description": "Hillshade_Multidirectional_7x",
"help": ""
},
{
"name": "BlueGreen2ColorRamp",
"description": "Blue Green 2 Color Ramp",
"help": "\n "
},
{
"name": "BlueGreen3ColorRamp",
"description": "Blue Green 3 Color Ramp",
"help": "\n "
},
{
"name": "BlueGreenColorRamp",
"description": "Blue Green Color Ramp",
"help": "\n "
},
{
"name": "Contour2m",
"description": "2m Contour Interval",
"help": ""
},
{
"name": "Contour5m",
"description": "5m Contour Interval",
"help": ""
},
{
"name": "Contour10m",
"description": "10m Contour Interval",
"help": ""
},
{
"name": "Contour100m",
"description": "100 meter Contours with 500 meter thicker lines.\n",
"help": ""
},
{
"name": "Contour250m",
"description": "250 meter Contours with 1000 meter thicker lines.\n",
"help": ""
},
{
"name": "Contour500m",
"description": "500 meter Contours with 2000 meter thicker lines.\n",
"help": ""
},
{
"name": "RainbowColorRamp2",
"description": "Rainbow Color Ramp2",
"help": ""
},
{
"name": "RainbowColorRamp3",
"description": "Rainbow Color Ramp3",
"help": ""
},
{
"name": "RainbowColorRamp",
"description": "Rainbow Color Ramp",
"help": ""
}
]}
Mensuration Capabilities:
Has Histograms: true
Has Colormap: false
Has Multi Dimensions : false
Rendering Rule:
Min Scale: 0
Max Scale: 0
Copyright Text:
Service Data Type: esriImageServiceDataTypeGeneric
Min Values: -5502.359292853624
Max Values: -36.00392163917422
Mean Values: -1308.6205349624015
Standard Deviation Values: 1109.1467523994515
Object ID Field: OBJECTID
Fields:
-
OBJECTID
(
type: esriFieldTypeOID, alias: OBJECTID
)
-
Shape
(
type: esriFieldTypeGeometry, alias: Shape
)
-
Name
(
type: esriFieldTypeString, alias: Name, length: 200
)
-
MinPS
(
type: esriFieldTypeDouble, alias: MinPS
)
-
MaxPS
(
type: esriFieldTypeDouble, alias: MaxPS
)
-
LowPS
(
type: esriFieldTypeDouble, alias: LowPS
)
-
HighPS
(
type: esriFieldTypeDouble, alias: HighPS
)
-
Category
(
type: esriFieldTypeInteger, alias: Category
, Coded Values:
[0: Unknown]
, [1: Primary]
, [2: Overview]
, ...6 more...
)
-
Tag
(
type: esriFieldTypeString, alias: Tag, length: 100
)
-
GroupName
(
type: esriFieldTypeString, alias: GroupName, length: 100
)
-
ProductName
(
type: esriFieldTypeString, alias: ProductName, length: 100
)
-
CenterX
(
type: esriFieldTypeDouble, alias: CenterX
)
-
CenterY
(
type: esriFieldTypeDouble, alias: CenterY
)
-
ZOrder
(
type: esriFieldTypeInteger, alias: ZOrder
)
-
Shape_Length
(
type: esriFieldTypeDouble, alias: Shape_Length
)
-
Shape_Area
(
type: esriFieldTypeDouble, alias: Shape_Area
)
Default Mosaic Method: ByAttribute
Allowed Mosaic Methods: ByAttribute,NorthWest,Center,LockRaster,Nadir,Viewpoint,Seamline,None
SortField: LowPS
SortValue:
Mosaic Operator: First
Default Compression Quality: 75
Default Resampling Method: Bilinear
Max Record Count: 1000
Max Image Height: 4100
Max Image Width: 15000
Max Download Image Count: 20
Max Mosaic Image Count: 70
Allow Raster Function: true
Allow Copy: true
Allow Analysis: true
Allow Compute TiePoints: false
Supports Statistics: true
Supports Advanced Queries: true
Use StandardizedQueries: true
Raster Type Infos:
Name: Raster Dataset
Description: Supports all ArcGIS Raster Datasets
Help:
Has Raster Attribute Table: false
Edit Fields Info: null
Ownership Based AccessControl For Rasters: null
Child Resources:
Info
Histograms
Statistics
Key Properties
Legend
Raster Function Infos
Supported Operations:
Export Image
Query
Identify
Download Rasters
Compute Histograms
Compute Statistics Histograms
Get Samples
Compute Class Statistics
Query Boundary
Compute Pixel Location
Compute Angles
Validate
Project